Package: SDAMS Version: 1.28.0 Command: /Library/Frameworks/R.framework/Resources/bin/R CMD build --keep-empty-dirs --no-resave-data SDAMS StartedAt: 2025-10-14 09:12:29 -0400 (Tue, 14 Oct 2025) EndedAt: 2025-10-14 09:13:40 -0400 (Tue, 14 Oct 2025) EllapsedTime: 70.4 seconds RetCode: 0 Status: OK PackageFile: SDAMS_1.28.0.tar.gz PackageFileSize: 1.28 MiB