Package: SCnorm Version: 1.30.1 Command: /Library/Frameworks/R.framework/Resources/bin/R CMD check --install=check:SCnorm.install-out.txt --library=/Library/Frameworks/R.framework/Resources/library --no-vignettes --timings SCnorm_1.30.1.tar.gz StartedAt: 2025-10-14 09:59:45 -0400 (Tue, 14 Oct 2025) EndedAt: 2025-10-14 10:06:12 -0400 (Tue, 14 Oct 2025) EllapsedTime: 386.7 seconds RetCode: 0 Status: OK CheckDir: SCnorm.Rcheck Warnings: 0