Package: SCnorm Version: 1.30.1 Command: rm -rf SCnorm.buildbin-libdir && mkdir SCnorm.buildbin-libdir && /Users/biocbuild/BBS/utils/build-universal.sh SCnorm_1.30.1.tar.gz /Library/Frameworks/R.framework/Resources/bin/R SCnorm.buildbin-libdir StartedAt: 2025-10-14 14:43:24 -0400 (Tue, 14 Oct 2025) EndedAt: 2025-10-14 14:44:41 -0400 (Tue, 14 Oct 2025) EllapsedTime: 76.6 seconds RetCode: 0 Status: OK PackageFile: SCnorm_1.30.1.tgz PackageFileSize: 3.046 MiB