Package: SCnorm Version: 1.30.0 Command: /Library/Frameworks/R.framework/Resources/bin/R CMD check --install=check:SCnorm.install-out.txt --library=/Library/Frameworks/R.framework/Resources/library --no-vignettes --timings SCnorm_1.30.0.tar.gz StartedAt: 2025-04-21 21:32:02 -0400 (Mon, 21 Apr 2025) EndedAt: 2025-04-21 21:33:14 -0400 (Mon, 21 Apr 2025) EllapsedTime: 71.9 seconds RetCode: 0 Status: OK CheckDir: SCnorm.Rcheck Warnings: 0