Package: SCnorm Version: 1.30.1 Command: /Library/Frameworks/R.framework/Resources/bin/R CMD check --install=check:SCnorm.install-out.txt --library=/Library/Frameworks/R.framework/Resources/library --no-vignettes --timings SCnorm_1.30.1.tar.gz StartedAt: 2025-09-27 10:49:56 -0400 (Sat, 27 Sep 2025) EndedAt: 2025-09-27 10:53:33 -0400 (Sat, 27 Sep 2025) EllapsedTime: 217.0 seconds RetCode: 0 Status: OK CheckDir: SCnorm.Rcheck Warnings: 0