Package: SCnorm Version: 1.30.1 Command: /Library/Frameworks/R.framework/Resources/bin/R CMD build --keep-empty-dirs --no-resave-data SCnorm StartedAt: 2025-09-26 08:36:58 -0400 (Fri, 26 Sep 2025) EndedAt: 2025-09-26 08:39:18 -0400 (Fri, 26 Sep 2025) EllapsedTime: 139.7 seconds RetCode: 0 Status: OK PackageFile: SCnorm_1.30.1.tar.gz PackageFileSize: 2.978 MiB