Package: SCOPE Version: 1.20.0 Command: chmod a+r SCOPE -R && E:\biocbuild\bbs-3.21-bioc\R\bin\R.exe CMD build --keep-empty-dirs --no-resave-data SCOPE StartedAt: 2025-08-14 22:04:04 -0400 (Thu, 14 Aug 2025) EndedAt: 2025-08-14 22:18:42 -0400 (Thu, 14 Aug 2025) EllapsedTime: 878.1 seconds RetCode: 0 Status: OK PackageFile: SCOPE_1.20.0.tar.gz PackageFileSize: 391.8 KiB