Package: SCOPE Version: 1.20.0 Command: /Library/Frameworks/R.framework/Resources/bin/R CMD check --install=check:SCOPE.install-out.txt --library=/Library/Frameworks/R.framework/Resources/library --no-vignettes --timings SCOPE_1.20.0.tar.gz StartedAt: 2025-09-30 09:50:32 -0400 (Tue, 30 Sep 2025) EndedAt: 2025-09-30 10:02:30 -0400 (Tue, 30 Sep 2025) EllapsedTime: 718.2 seconds RetCode: 0 Status: OK CheckDir: SCOPE.Rcheck Warnings: 0