Package: SCOPE Version: 1.20.0 Command: /Library/Frameworks/R.framework/Resources/bin/R CMD build --keep-empty-dirs --no-resave-data SCOPE StartedAt: 2025-09-29 22:25:34 -0400 (Mon, 29 Sep 2025) EndedAt: 2025-09-29 22:47:23 -0400 (Mon, 29 Sep 2025) EllapsedTime: 1308.9 seconds RetCode: 0 Status: OK PackageFile: SCOPE_1.20.0.tar.gz PackageFileSize: 391.6 KiB