Package: SCOPE Version: 1.20.0 Command: rm -rf SCOPE.buildbin-libdir && mkdir SCOPE.buildbin-libdir && /Users/biocbuild/BBS/utils/build-universal.sh SCOPE_1.20.0.tar.gz /Library/Frameworks/R.framework/Resources/bin/R SCOPE.buildbin-libdir StartedAt: 2025-09-30 14:30:38 -0400 (Tue, 30 Sep 2025) EndedAt: 2025-09-30 14:32:16 -0400 (Tue, 30 Sep 2025) EllapsedTime: 98.0 seconds RetCode: 0 Status: OK PackageFile: SCOPE_1.20.0.tgz PackageFileSize: 578.2 KiB