Package: SCFA Version: 1.18.0 Command: /Library/Frameworks/R.framework/Resources/bin/R CMD check --install=check:SCFA.install-out.txt --library=/Library/Frameworks/R.framework/Resources/library --no-vignettes --timings SCFA_1.18.0.tar.gz StartedAt: 2025-10-15 11:22:26 -0400 (Wed, 15 Oct 2025) EndedAt: 2025-10-15 11:28:51 -0400 (Wed, 15 Oct 2025) EllapsedTime: 385.4 seconds RetCode: 0 Status: OK CheckDir: SCFA.Rcheck Warnings: 0