Package: SCFA Version: 1.18.0 Command: /Library/Frameworks/R.framework/Resources/bin/R CMD build --keep-empty-dirs --no-resave-data SCFA StartedAt: 2025-10-14 08:42:15 -0400 (Tue, 14 Oct 2025) EndedAt: 2025-10-14 08:45:43 -0400 (Tue, 14 Oct 2025) EllapsedTime: 208.7 seconds RetCode: 0 Status: OK PackageFile: SCFA_1.18.0.tar.gz PackageFileSize: 1.24 MiB