Package: SCArray Version: 1.16.0 Command: /home/biocbuild/R/R/bin/R CMD check --install=check:SCArray.install-out.txt --library=/home/biocbuild/R/R/site-library --no-vignettes --timings SCArray_1.16.0.tar.gz StartedAt: 2025-10-14 13:46:51 -0000 (Tue, 14 Oct 2025) EndedAt: 2025-10-14 13:51:46 -0000 (Tue, 14 Oct 2025) EllapsedTime: 295.4 seconds RetCode: 0 Status: OK CheckDir: SCArray.Rcheck Warnings: 0