Package: SC3 Version: 1.36.0 Command: /home/biocbuild/bbs-3.21-bioc/R/bin/R CMD check --install=check:SC3.install-out.txt --library=/home/biocbuild/bbs-3.21-bioc/R/site-library --timings SC3_1.36.0.tar.gz StartedAt: 2025-10-16 03:10:38 -0400 (Thu, 16 Oct 2025) EndedAt: 2025-10-16 03:20:06 -0400 (Thu, 16 Oct 2025) EllapsedTime: 567.7 seconds RetCode: 0 Status: OK CheckDir: SC3.Rcheck Warnings: 0