Package: SC3 Version: 1.36.0 Command: /home/biocbuild/R/R/bin/R CMD INSTALL SC3 StartedAt: 2025-10-13 20:32:02 -0000 (Mon, 13 Oct 2025) EndedAt: 2025-10-13 20:33:08 -0000 (Mon, 13 Oct 2025) EllapsedTime: 65.2 seconds RetCode: 0 Status: OK