Package: SC3 Version: 1.36.0 Command: /home/biocbuild/R/R/bin/R CMD build --keep-empty-dirs --no-resave-data SC3 StartedAt: 2025-10-14 04:19:01 -0000 (Tue, 14 Oct 2025) EndedAt: 2025-10-14 04:28:40 -0000 (Tue, 14 Oct 2025) EllapsedTime: 578.5 seconds RetCode: 0 Status: OK PackageFile: SC3_1.36.0.tar.gz PackageFileSize: 3.244 MiB