Package: SC3 Version: 1.36.0 Command: /Library/Frameworks/R.framework/Resources/bin/R CMD check --install=check:SC3.install-out.txt --library=/Library/Frameworks/R.framework/Resources/library --no-vignettes --timings SC3_1.36.0.tar.gz StartedAt: 2025-10-15 10:58:02 -0400 (Wed, 15 Oct 2025) EndedAt: 2025-10-15 11:01:35 -0400 (Wed, 15 Oct 2025) EllapsedTime: 212.9 seconds RetCode: 0 Status: OK CheckDir: SC3.Rcheck Warnings: 0