Package: SBGNview Version: 1.22.0 Command: E:\biocbuild\bbs-3.21-bioc\R\bin\R.exe CMD check --no-multiarch --install=check:SBGNview.install-out.txt --library=E:\biocbuild\bbs-3.21-bioc\R\library --no-vignettes --timings SBGNview_1.22.0.tar.gz StartedAt: 2025-08-15 06:28:32 -0400 (Fri, 15 Aug 2025) EndedAt: 2025-08-15 06:34:13 -0400 (Fri, 15 Aug 2025) EllapsedTime: 340.9 seconds RetCode: 0 Status: OK CheckDir: SBGNview.Rcheck Warnings: 0