Package: SBGNview Version: 1.22.0 Command: /Library/Frameworks/R.framework/Resources/bin/R CMD INSTALL SBGNview StartedAt: 2025-10-13 15:48:12 -0400 (Mon, 13 Oct 2025) EndedAt: 2025-10-13 15:49:32 -0400 (Mon, 13 Oct 2025) EllapsedTime: 79.9 seconds RetCode: 0 Status: OK