Package: SBGNview Version: 1.22.0 Command: rm -rf SBGNview.buildbin-libdir && mkdir SBGNview.buildbin-libdir && /Users/biocbuild/BBS/utils/build-universal.sh SBGNview_1.22.0.tar.gz /Library/Frameworks/R.framework/Resources/bin/R SBGNview.buildbin-libdir StartedAt: 2025-10-14 14:40:17 -0400 (Tue, 14 Oct 2025) EndedAt: 2025-10-14 14:42:02 -0400 (Tue, 14 Oct 2025) EllapsedTime: 104.8 seconds RetCode: 0 Status: OK PackageFile: SBGNview_1.22.0.tgz PackageFileSize: 2.09 MiB