Package: SBGNview Version: 1.22.0 Command: /home/biocbuild/R/R/bin/R CMD INSTALL SBGNview StartedAt: 2025-10-13 20:40:28 -0000 (Mon, 13 Oct 2025) EndedAt: 2025-10-13 20:41:22 -0000 (Mon, 13 Oct 2025) EllapsedTime: 54.0 seconds RetCode: 0 Status: OK