Package: SBGNview Version: 1.22.0 Command: /Library/Frameworks/R.framework/Resources/bin/R CMD build --keep-empty-dirs --no-resave-data SBGNview StartedAt: 2025-10-14 08:25:36 -0400 (Tue, 14 Oct 2025) EndedAt: 2025-10-14 08:28:21 -0400 (Tue, 14 Oct 2025) EllapsedTime: 164.7 seconds RetCode: 0 Status: OK PackageFile: SBGNview_1.22.0.tar.gz PackageFileSize: 1.677 MiB