Package: SBGNview Version: 1.22.0 Command: rm -rf SBGNview.buildbin-libdir && mkdir SBGNview.buildbin-libdir && /Users/biocbuild/BBS/utils/build-universal.sh SBGNview_1.22.0.tar.gz /Library/Frameworks/R.framework/Resources/bin/R SBGNview.buildbin-libdir StartedAt: 2025-10-15 20:18:15 -0400 (Wed, 15 Oct 2025) EndedAt: 2025-10-15 20:19:03 -0400 (Wed, 15 Oct 2025) EllapsedTime: 48.2 seconds RetCode: 0 Status: OK PackageFile: SBGNview_1.22.0.tgz PackageFileSize: 2.09 MiB