Package: SBGNview Version: 1.22.0 Maintainer: Weijun Luo MaintainerEmail: luo_weijun at yahoo.com git_url: https://git.bioconductor.org/packages/SBGNview git_branch: RELEASE_3_21 git_last_commit: 3200f66 git_last_commit_date: 2025-04-15 11:47:35 -0400 (Tue, 15 Apr 2025)