Package: SANTA Version: 2.44.0 Command: /home/biocbuild/bbs-3.21-bioc/R/bin/R CMD build --keep-empty-dirs --no-resave-data SANTA StartedAt: 2025-10-15 19:38:17 -0400 (Wed, 15 Oct 2025) EndedAt: 2025-10-15 19:38:26 -0400 (Wed, 15 Oct 2025) EllapsedTime: 9.0 seconds RetCode: 0 Status: OK PackageFile: SANTA_2.44.0.tar.gz PackageFileSize: 4.372 MiB