Package: SAIGEgds Version: 2.8.0 Command: rm -rf SAIGEgds.buildbin-libdir && mkdir SAIGEgds.buildbin-libdir && E:\biocbuild\bbs-3.21-bioc\R\bin\R.exe CMD INSTALL --build --library=SAIGEgds.buildbin-libdir SAIGEgds_2.8.0.tar.gz StartedAt: 2025-08-15 10:11:27 -0400 (Fri, 15 Aug 2025) EndedAt: 2025-08-15 10:16:01 -0400 (Fri, 15 Aug 2025) EllapsedTime: 274.4 seconds RetCode: 0 Status: OK PackageFile: SAIGEgds_2.8.0.zip PackageFileSize: 2.581 MiB