Package: SAIGEgds Version: 2.8.1 Command: /home/biocbuild/bbs-3.21-bioc/R/bin/R CMD check --install=check:SAIGEgds.install-out.txt --library=/home/biocbuild/bbs-3.21-bioc/R/site-library --timings SAIGEgds_2.8.1.tar.gz StartedAt: 2025-10-16 03:08:41 -0400 (Thu, 16 Oct 2025) EndedAt: 2025-10-16 03:11:18 -0400 (Thu, 16 Oct 2025) EllapsedTime: 157.3 seconds RetCode: 0 Status: OK CheckDir: SAIGEgds.Rcheck Warnings: 0