Package: SAIGEgds Version: 2.8.1 Command: /home/biocbuild/bbs-3.21-bioc/R/bin/R CMD build --keep-empty-dirs --no-resave-data SAIGEgds StartedAt: 2025-10-15 19:38:06 -0400 (Wed, 15 Oct 2025) EndedAt: 2025-10-15 19:39:26 -0400 (Wed, 15 Oct 2025) EllapsedTime: 80.1 seconds RetCode: 0 Status: OK PackageFile: SAIGEgds_2.8.1.tar.gz PackageFileSize: 1.975 MiB