Package: SAIGEgds Version: 2.8.1 Command: rm -rf SAIGEgds.buildbin-libdir && mkdir SAIGEgds.buildbin-libdir && /Users/biocbuild/BBS/utils/build-universal.sh SAIGEgds_2.8.1.tar.gz /Library/Frameworks/R.framework/Resources/bin/R SAIGEgds.buildbin-libdir StartedAt: 2025-10-14 14:39:47 -0400 (Tue, 14 Oct 2025) EndedAt: 2025-10-14 14:42:05 -0400 (Tue, 14 Oct 2025) EllapsedTime: 137.5 seconds RetCode: 0 Status: OK PackageFile: SAIGEgds_2.8.1.tgz PackageFileSize: 2.385 MiB