Package: SAIGEgds Version: 2.8.0 Command: /Library/Frameworks/R.framework/Resources/bin/R CMD INSTALL SAIGEgds StartedAt: 2025-04-21 15:22:12 -0400 (Mon, 21 Apr 2025) EndedAt: 2025-04-21 15:23:16 -0400 (Mon, 21 Apr 2025) EllapsedTime: 64.3 seconds RetCode: 0 Status: OK