Package: SAIGEgds Version: 2.8.0 Command: /Library/Frameworks/R.framework/Resources/bin/R CMD build --keep-empty-dirs --no-resave-data SAIGEgds StartedAt: 2025-04-21 18:16:23 -0400 (Mon, 21 Apr 2025) EndedAt: 2025-04-21 18:17:34 -0400 (Mon, 21 Apr 2025) EllapsedTime: 70.7 seconds RetCode: 0 Status: OK PackageFile: SAIGEgds_2.8.0.tar.gz PackageFileSize: 1.976 MiB