Package: SAIGEgds Version: 2.8.1 Command: /home/biocbuild/R/R/bin/R CMD INSTALL SAIGEgds StartedAt: 2025-10-13 20:36:33 -0000 (Mon, 13 Oct 2025) EndedAt: 2025-10-13 20:38:12 -0000 (Mon, 13 Oct 2025) EllapsedTime: 98.9 seconds RetCode: 0 Status: OK