Package: S4Vectors Version: 0.46.0 Command: /Library/Frameworks/R.framework/Resources/bin/R CMD INSTALL S4Vectors StartedAt: 2025-10-13 15:20:54 -0400 (Mon, 13 Oct 2025) EndedAt: 2025-10-13 15:21:52 -0400 (Mon, 13 Oct 2025) EllapsedTime: 57.7 seconds RetCode: 0 Status: OK