Package: S4Vectors Version: 0.46.0 Command: /Library/Frameworks/R.framework/Resources/bin/R CMD INSTALL S4Vectors StartedAt: 2025-04-21 15:06:19 -0400 (Mon, 21 Apr 2025) EndedAt: 2025-04-21 15:06:27 -0400 (Mon, 21 Apr 2025) EllapsedTime: 8.7 seconds RetCode: 0 Status: OK