Package: S4Arrays Version: 1.8.1 Command: /Library/Frameworks/R.framework/Resources/bin/R CMD INSTALL S4Arrays StartedAt: 2025-10-13 15:25:46 -0400 (Mon, 13 Oct 2025) EndedAt: 2025-10-13 15:26:25 -0400 (Mon, 13 Oct 2025) EllapsedTime: 39.6 seconds RetCode: 0 Status: OK