Package: S4Arrays Version: 1.8.1 Command: /Library/Frameworks/R.framework/Resources/bin/R CMD check --install=check:S4Arrays.install-out.txt --library=/Library/Frameworks/R.framework/Resources/library --no-vignettes --timings S4Arrays_1.8.1.tar.gz StartedAt: 2025-10-14 09:38:28 -0400 (Tue, 14 Oct 2025) EndedAt: 2025-10-14 09:43:43 -0400 (Tue, 14 Oct 2025) EllapsedTime: 315.6 seconds RetCode: 0 Status: OK CheckDir: S4Arrays.Rcheck Warnings: 0