Package: S4Arrays Version: 1.8.1 Command: rm -rf S4Arrays.buildbin-libdir && mkdir S4Arrays.buildbin-libdir && /Users/biocbuild/BBS/utils/build-universal.sh S4Arrays_1.8.1.tar.gz /Library/Frameworks/R.framework/Resources/bin/R S4Arrays.buildbin-libdir StartedAt: 2025-10-14 14:39:24 -0400 (Tue, 14 Oct 2025) EndedAt: 2025-10-14 14:40:17 -0400 (Tue, 14 Oct 2025) EllapsedTime: 52.6 seconds RetCode: 0 Status: OK PackageFile: S4Arrays_1.8.1.tgz PackageFileSize: 1.158 MiB