Package: Rtpca Version: 1.18.0 Command: rm -rf Rtpca.buildbin-libdir && mkdir Rtpca.buildbin-libdir && E:\biocbuild\bbs-3.21-bioc\R\bin\R.exe CMD INSTALL --build --library=Rtpca.buildbin-libdir Rtpca_1.18.0.tar.gz StartedAt: 2025-08-15 10:10:39 -0400 (Fri, 15 Aug 2025) EndedAt: 2025-08-15 10:11:24 -0400 (Fri, 15 Aug 2025) EllapsedTime: 45.0 seconds RetCode: 0 Status: OK PackageFile: Rtpca_1.18.0.zip PackageFileSize: 2.277 MiB