Package: Rtpca Version: 1.18.1 Command: /home/biocbuild/bbs-3.21-bioc/R/bin/R CMD INSTALL Rtpca StartedAt: 2025-10-15 15:12:14 -0400 (Wed, 15 Oct 2025) EndedAt: 2025-10-15 15:12:24 -0400 (Wed, 15 Oct 2025) EllapsedTime: 9.6 seconds RetCode: 0 Status: OK