Package: Rtpca Version: 1.18.1 Command: /home/biocbuild/bbs-3.21-bioc/R/bin/R CMD check --install=check:Rtpca.install-out.txt --library=/home/biocbuild/bbs-3.21-bioc/R/site-library --timings Rtpca_1.18.1.tar.gz StartedAt: 2025-10-16 03:06:10 -0400 (Thu, 16 Oct 2025) EndedAt: 2025-10-16 03:07:27 -0400 (Thu, 16 Oct 2025) EllapsedTime: 77.1 seconds RetCode: 0 Status: OK CheckDir: Rtpca.Rcheck Warnings: 0