Package: Rtpca Version: 1.18.1 Command: /home/biocbuild/bbs-3.21-bioc/R/bin/R CMD build --keep-empty-dirs --no-resave-data Rtpca StartedAt: 2025-10-15 19:36:37 -0400 (Wed, 15 Oct 2025) EndedAt: 2025-10-15 19:37:01 -0400 (Wed, 15 Oct 2025) EllapsedTime: 24.0 seconds RetCode: 0 Status: OK PackageFile: Rtpca_1.18.1.tar.gz PackageFileSize: 2.182 MiB