Package: Rtpca Version: 1.18.1 Command: /home/biocbuild/R/R/bin/R CMD INSTALL Rtpca StartedAt: 2025-10-13 20:24:36 -0000 (Mon, 13 Oct 2025) EndedAt: 2025-10-13 20:24:50 -0000 (Mon, 13 Oct 2025) EllapsedTime: 13.8 seconds RetCode: 0 Status: OK