Package: Rtpca Version: 1.18.1 Command: /home/biocbuild/R/R/bin/R CMD check --install=check:Rtpca.install-out.txt --library=/home/biocbuild/R/R/site-library --no-vignettes --timings Rtpca_1.18.1.tar.gz StartedAt: 2025-10-14 13:37:37 -0000 (Tue, 14 Oct 2025) EndedAt: 2025-10-14 13:39:34 -0000 (Tue, 14 Oct 2025) EllapsedTime: 117.1 seconds RetCode: 0 Status: OK CheckDir: Rtpca.Rcheck Warnings: 0