Package: Rtpca Version: 1.18.1 Command: /home/biocbuild/R/R/bin/R CMD build --keep-empty-dirs --no-resave-data Rtpca StartedAt: 2025-10-14 04:14:46 -0000 (Tue, 14 Oct 2025) EndedAt: 2025-10-14 04:15:21 -0000 (Tue, 14 Oct 2025) EllapsedTime: 35.0 seconds RetCode: 0 Status: OK PackageFile: Rtpca_1.18.1.tar.gz PackageFileSize: 2.13 MiB