Package: Rtpca Version: 1.18.1 Command: /Library/Frameworks/R.framework/Resources/bin/R CMD check --install=check:Rtpca.install-out.txt --library=/Library/Frameworks/R.framework/Resources/library --no-vignettes --timings Rtpca_1.18.1.tar.gz StartedAt: 2025-10-15 10:41:40 -0400 (Wed, 15 Oct 2025) EndedAt: 2025-10-15 10:43:03 -0400 (Wed, 15 Oct 2025) EllapsedTime: 83.1 seconds RetCode: 0 Status: OK CheckDir: Rtpca.Rcheck Warnings: 0