Package: Rtpca Version: 1.18.1 Maintainer: Nils Kurzawa MaintainerEmail: nilskurzawa at gmail.com git_url: https://git.bioconductor.org/packages/Rtpca git_branch: RELEASE_3_21 git_last_commit: 6fb2c94 git_last_commit_date: 2025-09-18 15:26:45 -0400 (Thu, 18 Sep 2025)