Package: Rsubread Version: 2.22.1 Command: chmod a+r Rsubread -R && E:\biocbuild\bbs-3.21-bioc\R\bin\R.exe CMD build --keep-empty-dirs --no-resave-data Rsubread StartedAt: 2025-08-14 21:52:45 -0400 (Thu, 14 Aug 2025) EndedAt: 2025-08-14 21:55:44 -0400 (Thu, 14 Aug 2025) EllapsedTime: 178.9 seconds RetCode: 0 Status: OK PackageFile: Rsubread_2.22.1.tar.gz PackageFileSize: 12.82 MiB