Package: Rsubread Version: 2.22.1 Command: /Library/Frameworks/R.framework/Resources/bin/R CMD INSTALL Rsubread StartedAt: 2025-10-13 15:15:02 -0400 (Mon, 13 Oct 2025) EndedAt: 2025-10-13 15:15:40 -0400 (Mon, 13 Oct 2025) EllapsedTime: 38.9 seconds RetCode: 0 Status: OK