Package: Rsubread Version: 2.22.1 Command: /Library/Frameworks/R.framework/Resources/bin/R CMD build --keep-empty-dirs --no-resave-data Rsubread StartedAt: 2025-10-14 08:13:41 -0400 (Tue, 14 Oct 2025) EndedAt: 2025-10-14 08:27:48 -0400 (Tue, 14 Oct 2025) EllapsedTime: 846.5 seconds RetCode: 0 Status: OK PackageFile: Rsubread_2.22.1.tar.gz PackageFileSize: 12.94 MiB