Package: Rsubread Version: 2.22.1 Command: rm -rf Rsubread.buildbin-libdir && mkdir Rsubread.buildbin-libdir && /Users/biocbuild/BBS/utils/build-universal.sh Rsubread_2.22.1.tar.gz /Library/Frameworks/R.framework/Resources/bin/R Rsubread.buildbin-libdir StartedAt: 2025-10-15 20:15:15 -0400 (Wed, 15 Oct 2025) EndedAt: 2025-10-15 20:16:04 -0400 (Wed, 15 Oct 2025) EllapsedTime: 49.7 seconds RetCode: 0 Status: OK PackageFile: Rsubread_2.22.1.tgz PackageFileSize: 13.18 MiB